BEGIN:VCALENDAR
VERSION:2.0
PRODID:-//Tukios.com/
BEGIN:VEVENT
UID:e4ccbc02-7950-494c-879a-47c4a8c3a4c4@www.stephenson-gaskin.com
DTSTAMP:20260423T201733Z
DTSTART:20260428T180000Z
DTEND:20260428T190000Z
SUMMARY:Memorial Service
DESCRIPTION:
URL:https://www.stephenson-gaskin.com/obituaries/mary-muesing
LOCATION:Central Church 5301 Sardis Rd.  Charlotte NC 28270
GEO:35.1608373;-80.789412
END:VEVENT
END:VCALENDAR